This page was generated on 2025-10-21 15:41 -0400 (Tue, 21 Oct 2025).
| |
See this page for all the Bioconductor builds and their schedule. |
Hostname | OS | Arch (*) | R version | Installed pkgs |
---|---|---|---|---|
nebbiolo2 | Linux (Ubuntu 24.04.3 LTS) | x86_64 | 4.5.1 Patched (2025-08-23 r88802) -- "Great Square Root" | 4888 |
Click on any hostname to see more info about the system (e.g. compilers) (*) as reported by 'uname -p', except on Windows and Mac OS X |
A |
QUICK STATS | OS / Arch | INSTALL | BUILD | CHECK | |||||||||||||||||||||||||||||||
nebbiolo2 | Linux (Ubuntu 24.04.3 LTS) / x86_64 |
|
|
| |||||||||||||||||||||||||||||||
|
| ||||||||||||||||||||||||||||||||||
Package | Maintainer | INSTALL | BUILD | CHECK | |||||||||||||||||||||||||||||||
1/435 | adductData 1.25.0 (landing page) | Josie Hayes | OK | OK | OK | ![]() | |||||||||||||||||||||||||||||
2/435 | affycompData 1.47.0 (landing page) | Robert D Shear | OK | OK | OK | ![]() | |||||||||||||||||||||||||||||
3/435 | affydata 1.57.0 (landing page) | Robert D Shear | OK | OK | WARNINGS | ![]() | |||||||||||||||||||||||||||||
4/435 | Affyhgu133A2Expr 1.45.0 (landing page) | Zhicheng Ji | OK | OK | OK | ![]() | |||||||||||||||||||||||||||||
5/435 | Affyhgu133aExpr 1.47.0 (landing page) | Zhicheng Ji | OK | OK | OK | ![]() | |||||||||||||||||||||||||||||
6/435 | Affyhgu133Plus2Expr 1.43.0 (landing page) | Zhicheng Ji | OK | OK | OK | ![]() | |||||||||||||||||||||||||||||
7/435 | AffymetrixDataTestFiles 0.47.0 (landing page) | Henrik Bengtsson | OK | OK | OK | ![]() | |||||||||||||||||||||||||||||
8/435 | Affymoe4302Expr 1.47.0 (landing page) | Zhicheng Ji | OK | OK | OK | ![]() | |||||||||||||||||||||||||||||
9/435 | airway 1.29.0 (landing page) | Michael Love | OK | OK | WARNINGS | ![]() | |||||||||||||||||||||||||||||
10/435 | ALL 1.51.0 (landing page) | Robert Gentleman | OK | OK | OK | ![]() | |||||||||||||||||||||||||||||
11/435 | ALLMLL 1.49.0 (landing page) | B. M. Bolstad | OK | OK | OK | ![]() | |||||||||||||||||||||||||||||
12/435 | AmpAffyExample 1.49.0 (landing page) | Robert D Shear | OK | OK | WARNINGS | ![]() | |||||||||||||||||||||||||||||
13/435 | Aaron Taudt | OK | OK | WARNINGS | ![]() | ||||||||||||||||||||||||||||||
14/435 | antiProfilesData 1.45.0 (landing page) | Hector Corrada Bravo | OK | OK | OK | ![]() | |||||||||||||||||||||||||||||
15/435 | aracne.networks 1.35.0 (landing page) | Federico M. Giorgi | OK | OK | WARNINGS | ![]() | |||||||||||||||||||||||||||||
16/435 | ARRmData 1.45.0 (landing page) | Jean-Philippe Fortin | OK | OK | OK | ![]() | |||||||||||||||||||||||||||||
17/435 | AshkenazimSonChr21 1.39.0 (landing page) | Who to complain to | OK | OK | OK | ![]() | |||||||||||||||||||||||||||||
18/435 | ASICSdata 1.29.0 (landing page) | Gaëlle Lefort | OK | OK | OK | ![]() | |||||||||||||||||||||||||||||
19/435 | AssessORFData 1.27.0 (landing page) | Nicholas Cooley | OK | OK | OK | ![]() | |||||||||||||||||||||||||||||
20/435 | AWAggregatorData 0.99.4 (landing page) | Jiahua Tan | OK | OK | OK | ![]() | |||||||||||||||||||||||||||||
|
| ||||||||||||||||||||||||||||||||||
Package | Maintainer | INSTALL | BUILD | CHECK | |||||||||||||||||||||||||||||||
21/435 | bcellViper 1.45.0 (landing page) | Mariano Javier Alvarez | OK | OK | OK | ![]() | |||||||||||||||||||||||||||||
22/435 | beadarrayExampleData 1.47.0 (landing page) | Mark Dunning | OK | OK | OK | ![]() | |||||||||||||||||||||||||||||
23/435 | BeadArrayUseCases 1.47.0 (landing page) | Mike Smith | OK | OK | OK | ![]() | |||||||||||||||||||||||||||||
24/435 | BeadSorted.Saliva.EPIC 1.17.0 (landing page) | Jonah Fisher | OK | OK | OK | ![]() | |||||||||||||||||||||||||||||
25/435 | beta7 1.47.0 (landing page) | Jean Yang | OK | OK | WARNINGS | ![]() | |||||||||||||||||||||||||||||
26/435 | BioImageDbs 1.17.0 (landing page) | Satoshi Kume | OK | OK | OK | ![]() | |||||||||||||||||||||||||||||
27/435 | BioPlex 1.15.0 (landing page) | Ludwig Geistlinger | OK | OK | OK | ![]() | |||||||||||||||||||||||||||||
28/435 | biotmleData 1.33.0 (landing page) | Nima Hejazi | OK | OK | WARNINGS | ![]() | |||||||||||||||||||||||||||||
29/435 | biscuiteerData 1.23.1 (landing page) | "Jacob Morrison" | OK | OK | OK | ![]() | |||||||||||||||||||||||||||||
30/435 | bladderbatch 1.47.0 (landing page) | Jeffrey T. Leek | OK | OK | WARNINGS | ![]() | |||||||||||||||||||||||||||||
31/435 | blimaTestingData 1.29.0 (landing page) | Vojtech Kulvait | OK | OK | OK | ![]() | |||||||||||||||||||||||||||||
32/435 | BloodCancerMultiOmics2017 1.29.0 (landing page) | Małgorzata Oleś | OK | OK | WARNINGS | ![]() | |||||||||||||||||||||||||||||
33/435 | bodymapRat 1.25.0 (landing page) | Stephanie Hicks | OK | OK | OK | ![]() | |||||||||||||||||||||||||||||
34/435 | breakpointRdata 1.27.0 (landing page) | David Porubsky | OK | OK | OK | ![]() | |||||||||||||||||||||||||||||
35/435 | breastCancerMAINZ 1.47.0 (landing page) | Markus Schroeder | OK | OK | WARNINGS | ![]() | |||||||||||||||||||||||||||||
36/435 | breastCancerNKI 1.47.0 (landing page) | Markus Schroeder | OK | OK | WARNINGS | ![]() | |||||||||||||||||||||||||||||
37/435 | breastCancerTRANSBIG 1.47.0 (landing page) | Markus Schroeder | OK | OK | WARNINGS | ![]() | |||||||||||||||||||||||||||||
38/435 | breastCancerUNT 1.47.0 (landing page) | Markus Schroeder | OK | OK | WARNINGS | ![]() | |||||||||||||||||||||||||||||
39/435 | breastCancerUPP 1.47.0 (landing page) | Markus Schroeder | OK | OK | WARNINGS | ![]() | |||||||||||||||||||||||||||||
40/435 | breastCancerVDX 1.47.0 (landing page) | Markus Schroeder | OK | OK | WARNINGS | ![]() | |||||||||||||||||||||||||||||
41/435 | brgedata 1.31.0 (landing page) | Dolors Pelegri-Siso | OK | OK | WARNINGS | ![]() | |||||||||||||||||||||||||||||
42/435 | bronchialIL13 1.47.0 (landing page) | Vince Carey | OK | OK | OK | ![]() | |||||||||||||||||||||||||||||
43/435 | bsseqData 0.47.0 (landing page) | Kasper Daniel Hansen | OK | OK | WARNINGS | ![]() | |||||||||||||||||||||||||||||
44/435 | bugphyzz 1.3.0 (landing page) | Samuel Gamboa | OK | OK | OK | ![]() | |||||||||||||||||||||||||||||
|
| ||||||||||||||||||||||||||||||||||
Package | Maintainer | INSTALL | BUILD | CHECK | |||||||||||||||||||||||||||||||
45/435 | cancerdata 1.47.0 (landing page) | Daniel Kosztyla | OK | OK | OK | ![]() | |||||||||||||||||||||||||||||
46/435 | CardinalWorkflows 1.41.0 (landing page) | Kylie A. Bemis | OK | OK | OK | ![]() | |||||||||||||||||||||||||||||
47/435 | ccdata 1.35.0 (landing page) | Alex Pickering | OK | OK | WARNINGS | ![]() | |||||||||||||||||||||||||||||
48/435 | CCl4 1.47.0 (landing page) | Audrey Kauffmann | OK | OK | WARNINGS | ![]() | |||||||||||||||||||||||||||||
49/435 | celarefData 1.27.0 (landing page) | Sarah Williams | OK | OK | OK | ![]() | |||||||||||||||||||||||||||||
50/435 | celldex 1.19.0 (landing page) | Aaron Lun | OK | OK | OK | ![]() | |||||||||||||||||||||||||||||
51/435 | CellMapperData 1.35.0 (landing page) | Brad Nelms | OK | OK | OK | ![]() | |||||||||||||||||||||||||||||
52/435 | CENTREprecomputed 0.99.3 (landing page) | Sara Lopez Ruiz de Vargas | OK | OK | OK | ![]() | |||||||||||||||||||||||||||||
53/435 | cfToolsData 1.7.0 (landing page) | Ran Hu | OK | OK | OK | ![]() | |||||||||||||||||||||||||||||
54/435 | ChAMPdata 2.41.0 (landing page) | Yuan Tian | OK | OK | WARNINGS | ![]() | |||||||||||||||||||||||||||||
55/435 | ChimpHumanBrainData 1.47.0 (landing page) | Sean Davis | OK | OK | OK | ![]() | |||||||||||||||||||||||||||||
56/435 | ChIPDBData 0.99.7 (landing page) | Yosra Berrouayel | OK | OK | OK | ![]() | |||||||||||||||||||||||||||||
57/435 | chipenrich.data 2.33.0 (landing page) | Kai Wang | OK | OK | WARNINGS | ![]() | |||||||||||||||||||||||||||||
58/435 | ChIPexoQualExample 1.33.0 (landing page) | Rene Welch | OK | OK | OK | ![]() | |||||||||||||||||||||||||||||
59/435 | chipseqDBData 1.25.0 (landing page) | Aaron Lun | OK | OK | OK | ![]() | |||||||||||||||||||||||||||||
60/435 | ChIPXpressData 1.47.0 (landing page) | George Wu | OK | OK | WARNINGS | ![]() | |||||||||||||||||||||||||||||
61/435 | Aaron Taudt | OK | OK | WARNINGS | ![]() | ||||||||||||||||||||||||||||||
62/435 | CLL 1.49.0 (landing page) | Robert Gentleman | OK | OK | OK | ![]() | |||||||||||||||||||||||||||||
63/435 | CLLmethylation 1.29.0 (landing page) | Malgorzata Oles | OK | OK | OK | ![]() | |||||||||||||||||||||||||||||
64/435 | CluMSIDdata 1.25.0 (landing page) | Tobias Depke | OK | OK | OK | ![]() | |||||||||||||||||||||||||||||
65/435 | clustifyrdatahub 1.19.0 (landing page) | Kent Riemondy | OK | OK | OK | ![]() | |||||||||||||||||||||||||||||
66/435 | cMap2data 1.45.0 (landing page) | J. Saez-Rodriguez | OK | OK | WARNINGS | ![]() | |||||||||||||||||||||||||||||
67/435 | cnvGSAdata 1.45.0 (landing page) | Joseph Lugo | OK | OK | WARNINGS | ![]() | |||||||||||||||||||||||||||||
68/435 | COHCAPanno 1.45.0 (landing page) | Charles Warden | OK | OK | OK | ![]() | |||||||||||||||||||||||||||||
69/435 | colonCA 1.51.0 (landing page) | W Sylvia Merk | OK | OK | WARNINGS | ![]() | |||||||||||||||||||||||||||||
70/435 | CONFESSdata 1.37.0 (landing page) | Diana LOW | OK | OK | OK | ![]() | |||||||||||||||||||||||||||||
71/435 | ConnectivityMap 1.45.0 (landing page) | Paul Shannon | OK | OK | OK | ![]() | |||||||||||||||||||||||||||||
72/435 | COPDSexualDimorphism.data 1.45.0 (landing page) | J Fah Sathirapongsasuti | OK | OK | WARNINGS | ![]() | |||||||||||||||||||||||||||||
73/435 | CopyhelpeR 1.41.0 (landing page) | Oscar Krijgsman | OK | OK | OK | ![]() | |||||||||||||||||||||||||||||
74/435 | CopyNeutralIMA 1.27.0 (landing page) | Xavier Pastor Hostench | OK | OK | OK | ![]() | |||||||||||||||||||||||||||||
75/435 | CoSIAdata 1.9.0 (landing page) | Amanda D. Clark | OK | OK | OK | ![]() | |||||||||||||||||||||||||||||
76/435 | COSMIC.67 1.45.0 (landing page) | Julian Gehring | OK | OK | OK | ![]() | |||||||||||||||||||||||||||||
77/435 | CRCL18 1.29.0 (landing page) | Claudio Isella | OK | OK | OK | ![]() | |||||||||||||||||||||||||||||
78/435 | crisprScoreData 1.13.0 (landing page) | Jean-Philippe Fortin | OK | OK | OK | ![]() | |||||||||||||||||||||||||||||
79/435 | curatedAdipoArray 1.21.0 (landing page) | Mahmoud Ahmed | OK | OK | OK | ![]() | |||||||||||||||||||||||||||||
80/435 | curatedAdipoChIP 1.25.0 (landing page) | Mahmoud Ahmed | OK | OK | OK | ![]() | |||||||||||||||||||||||||||||
81/435 | curatedAdipoRNA 1.25.0 (landing page) | Mahmoud Ahmed | OK | OK | WARNINGS | ![]() | |||||||||||||||||||||||||||||
82/435 | curatedBladderData 1.45.0 (landing page) | Markus Riester | OK | OK | OK | ![]() | |||||||||||||||||||||||||||||
83/435 | curatedBreastData 2.37.0 (landing page) | Katie Planey | OK | OK | OK | ![]() | |||||||||||||||||||||||||||||
84/435 | Princy Parsana | OK | OK | ERROR | |||||||||||||||||||||||||||||||
85/435 | curatedMetagenomicData 3.17.4 (landing page) | Lucas schiffer | OK | OK | OK | ![]() | |||||||||||||||||||||||||||||
86/435 | curatedOvarianData 1.47.2 (landing page) | Levi Waldron | OK | OK | OK | ![]() | |||||||||||||||||||||||||||||
87/435 | curatedPCaData 1.5.0 (landing page) | Teemu Daniel Laajala | OK | OK | OK | ![]() | |||||||||||||||||||||||||||||
88/435 | curatedTBData 2.5.0 (landing page) | Xutao Wang | OK | OK | WARNINGS | ![]() | |||||||||||||||||||||||||||||
89/435 | curatedTCGAData 1.31.2 (landing page) | Marcel Ramos | OK | OK | OK | ![]() | |||||||||||||||||||||||||||||
90/435 | CytoMethIC 1.5.0 (landing page) | Jacob Fanale | OK | OK | OK | ![]() | |||||||||||||||||||||||||||||
|
| ||||||||||||||||||||||||||||||||||
Package | Maintainer | INSTALL | BUILD | CHECK | |||||||||||||||||||||||||||||||
91/435 | DAPARdata 1.39.0 (landing page) | Samuel Wieczorek | OK | OK | OK | ![]() | |||||||||||||||||||||||||||||
92/435 | davidTiling 1.49.0 (landing page) | Wolfgang Huber | OK | OK | WARNINGS | ![]() | |||||||||||||||||||||||||||||
93/435 | depmap 1.23.0 (landing page) | Laurent Gatto | OK | OK | OK | ![]() | |||||||||||||||||||||||||||||
94/435 | derfinderData 2.27.0 (landing page) | Leonardo Collado-Torres | OK | OK | OK | ![]() | |||||||||||||||||||||||||||||
95/435 | DeSousa2013 1.45.0 (landing page) | Xin Wang | OK | OK | OK | ![]() | |||||||||||||||||||||||||||||
96/435 | DExMAdata 1.17.0 (landing page) | Juan Antonio Villatoro-García | OK | OK | OK | ![]() | |||||||||||||||||||||||||||||
97/435 | diffloopdata 1.37.0 (landing page) | Caleb Lareau | OK | OK | OK | ![]() | |||||||||||||||||||||||||||||
98/435 | diggitdata 1.41.0 (landing page) | Mariano Javier Alvarez | OK | OK | OK | ![]() | |||||||||||||||||||||||||||||
99/435 | DLBCL 1.49.0 (landing page) | Marcus Dittrich | OK | OK | WARNINGS | ![]() | |||||||||||||||||||||||||||||
100/435 | DMRcatedata 2.27.0 (landing page) | Tim Peters | OK | OK | OK | ![]() | |||||||||||||||||||||||||||||
101/435 | DNAZooData 1.9.0 (landing page) | Jacques Serizay | OK | OK | OK | ![]() | |||||||||||||||||||||||||||||
102/435 | DonaPLLP2013 1.47.0 (landing page) | Joseph D. Barry | OK | OK | OK | ![]() | |||||||||||||||||||||||||||||
103/435 | DoReMiTra 0.99.2 (landing page) | Ahmed Salah | OK | OK | OK | ![]() | |||||||||||||||||||||||||||||
104/435 | dorothea 1.21.0 (landing page) | Pau Badia-i-Mompel | OK | OK | ERROR | ||||||||||||||||||||||||||||||
105/435 | dressCheck 0.47.0 (landing page) | Vincent Carey | OK | OK | OK | ![]() | |||||||||||||||||||||||||||||
106/435 | DropletTestFiles 1.19.0 (landing page) | Aaron Lun | OK | OK | OK | ![]() | |||||||||||||||||||||||||||||
107/435 | DrugVsDiseasedata 1.45.0 (landing page) | J. Saez-Rodriguez | OK | OK | OK | ![]() | |||||||||||||||||||||||||||||
108/435 | DuoClustering2018 1.27.0 (landing page) | Angelo Duò | OK | OK | OK | ![]() | |||||||||||||||||||||||||||||
109/435 | DvDdata 1.45.0 (landing page) | J. Saez-Rodriguez | OK | OK | WARNINGS | ![]() | |||||||||||||||||||||||||||||
110/435 | dyebiasexamples 1.49.0 (landing page) | Philip Lijnzaad | OK | OK | WARNINGS | ![]() | |||||||||||||||||||||||||||||
|
| ||||||||||||||||||||||||||||||||||
Package | Maintainer | INSTALL | BUILD | CHECK | |||||||||||||||||||||||||||||||
111/435 | easierData 1.15.0 (landing page) | Oscar Lapuente-Santana | OK | OK | OK | ![]() | |||||||||||||||||||||||||||||
112/435 | EatonEtAlChIPseq 0.47.0 (landing page) | Patrick Aboyoun | OK | OK | WARNINGS | ![]() | |||||||||||||||||||||||||||||
113/435 | ecoliLeucine 1.49.0 (landing page) | Laurent Gautier | OK | OK | WARNINGS | ![]() | |||||||||||||||||||||||||||||
114/435 | EGSEAdata 1.37.0 (landing page) | Monther Alhamdoosh | OK | OK | OK | ![]() | |||||||||||||||||||||||||||||
115/435 | ELMER.data 2.33.0 (landing page) | Tiago Chedraoui Silva | OK | OK | WARNINGS | ![]() | |||||||||||||||||||||||||||||
116/435 | emtdata 1.17.0 (landing page) | Malvika D. Kharbanda | OK | OK | OK | ![]() | |||||||||||||||||||||||||||||
117/435 | eoPredData 1.3.0 (landing page) | Victor Yuan | OK | OK | OK | ![]() | |||||||||||||||||||||||||||||
118/435 | EpiMix.data 1.11.0 (landing page) | Yuanning Zheng | OK | OK | WARNINGS | ![]() | |||||||||||||||||||||||||||||
119/435 | epimutacionsData 1.13.0 (landing page) | Leire Abarrategui | OK | OK | OK | ![]() | |||||||||||||||||||||||||||||
120/435 | EpipwR.data 1.3.0 (landing page) | Jackson Barth | OK | OK | OK | ![]() | |||||||||||||||||||||||||||||
121/435 | estrogen 1.55.0 (landing page) | Wolfgang Huber | OK | OK | OK | ![]() | |||||||||||||||||||||||||||||
122/435 | etec16s 1.37.0 (landing page) | Joseph N. Paulson | OK | OK | OK | ![]() | |||||||||||||||||||||||||||||
123/435 | ewceData 1.17.0 (landing page) | Alan Murphy | OK | OK | OK | ![]() | |||||||||||||||||||||||||||||
|
| ||||||||||||||||||||||||||||||||||
Package | Maintainer | INSTALL | BUILD | CHECK | |||||||||||||||||||||||||||||||
124/435 | faahKO 1.49.1 (landing page) | Steffen Neumann | OK | OK | OK | ![]() | |||||||||||||||||||||||||||||
125/435 | fabiaData 1.47.0 (landing page) | Sepp Hochreiter | OK | OK | OK | ![]() | |||||||||||||||||||||||||||||
126/435 | FANTOM3and4CAGE 1.45.0 (landing page) | Vanja Haberle | OK | OK | OK | ![]() | |||||||||||||||||||||||||||||
127/435 | ffpeExampleData 1.47.0 (landing page) | Levi Waldron | OK | OK | OK | ![]() | |||||||||||||||||||||||||||||
128/435 | fibroEset 1.51.0 (landing page) | Sylvia Merk | OK | OK | WARNINGS | ![]() | |||||||||||||||||||||||||||||
129/435 | FieldEffectCrc 1.19.0 (landing page) | Christopher Dampier | OK | OK | OK | ![]() | |||||||||||||||||||||||||||||
130/435 | FIs 1.37.0 (landing page) | Herbert Braselmann | OK | OK | OK | ![]() | |||||||||||||||||||||||||||||
131/435 | fission 1.29.0 (landing page) | Michael Love | OK | OK | OK | ![]() | |||||||||||||||||||||||||||||
132/435 | Fletcher2013a 1.45.0 (landing page) | Mauro Castro | OK | OK | OK | ![]() | |||||||||||||||||||||||||||||
133/435 | Fletcher2013b 1.45.0 (landing page) | Mauro Castro | OK | OK | WARNINGS | ![]() | |||||||||||||||||||||||||||||
134/435 | flowPloidyData 1.35.0 (landing page) | Tyler Smith | OK | OK | OK | ![]() | |||||||||||||||||||||||||||||
135/435 | FlowSorted.Blood.450k 1.47.0 (landing page) | Andrew E Jaffe | OK | OK | WARNINGS | ![]() | |||||||||||||||||||||||||||||
136/435 | FlowSorted.Blood.EPIC 2.13.0 (landing page) | Lucas A. Salas | OK | OK | OK | ![]() | |||||||||||||||||||||||||||||
137/435 | FlowSorted.CordBlood.450k 1.37.0 (landing page) | Shan V. Andrews | OK | OK | WARNINGS | ![]() | |||||||||||||||||||||||||||||
138/435 | FlowSorted.CordBloodCombined.450k 1.25.0 (landing page) | Lucas A. Salas | OK | OK | OK | ![]() | |||||||||||||||||||||||||||||
139/435 | FlowSorted.CordBloodNorway.450k 1.35.0 (landing page) | kristina gervin | OK | OK | WARNINGS | ![]() | |||||||||||||||||||||||||||||
140/435 | FlowSorted.DLPFC.450k 1.45.0 (landing page) | Andrew E Jaffe | OK | OK | WARNINGS | ![]() | |||||||||||||||||||||||||||||
141/435 | flowWorkspaceData 3.21.0 (landing page) | Mike Jiang | OK | OK | OK | ![]() | |||||||||||||||||||||||||||||
142/435 | fourDNData 1.9.0 (landing page) | Jacques Serizay | OK | OK | OK | ![]() | |||||||||||||||||||||||||||||
143/435 | frmaExampleData 1.45.0 (landing page) | Matthew N. McCall | OK | OK | WARNINGS | ![]() | |||||||||||||||||||||||||||||
144/435 | furrowSeg 1.37.0 (landing page) | Joseph Barry | OK | OK | WARNINGS | ![]() | |||||||||||||||||||||||||||||
|
| ||||||||||||||||||||||||||||||||||
Package | Maintainer | INSTALL | BUILD | CHECK | |||||||||||||||||||||||||||||||
145/435 | gageData 2.47.0 (landing page) | Weijun Luo | OK | OK | OK | ![]() | |||||||||||||||||||||||||||||
146/435 | gaschYHS 1.47.0 (landing page) | Vince Carey | OK | OK | OK | ![]() | |||||||||||||||||||||||||||||
147/435 | gcspikelite 1.47.0 (landing page) | Mark Robinson | OK | OK | WARNINGS | ![]() | |||||||||||||||||||||||||||||
148/435 | gDNAinRNAseqData 1.9.0 (landing page) | Robert Castelo | OK | OK | OK | ![]() | |||||||||||||||||||||||||||||
149/435 | gDRtestData 1.7.3 (landing page) | Arkadiusz Gladki | OK | OK | OK | ![]() | |||||||||||||||||||||||||||||
150/435 | geneLenDataBase 1.45.0 (landing page) | Federico Marini | OK | OK | OK | ![]() | |||||||||||||||||||||||||||||
151/435 | genomationData 1.41.0 (landing page) | Vedran Franke | OK | OK | OK | ![]() | |||||||||||||||||||||||||||||
152/435 | GenomicDistributionsData 1.17.0 (landing page) | Kristyna Kupkova | OK | OK | OK | ![]() | |||||||||||||||||||||||||||||
153/435 | GeuvadisTranscriptExpr 1.37.1 (landing page) | Malgorzata Nowicka | OK | OK | OK | ![]() | |||||||||||||||||||||||||||||
154/435 | GIGSEAdata 1.27.0 (landing page) | Shijia Zhu | OK | OK | WARNINGS | ![]() | |||||||||||||||||||||||||||||
155/435 | golubEsets 1.51.0 (landing page) | Vince Carey | OK | OK | OK | ![]() | |||||||||||||||||||||||||||||
156/435 | gpaExample 1.21.0 (landing page) | Dongjun Chung | OK | OK | OK | ![]() | |||||||||||||||||||||||||||||
157/435 | grndata 1.41.0 (landing page) | Pau Bellot | OK | OK | WARNINGS | ![]() | |||||||||||||||||||||||||||||
158/435 | GSBenchMark 1.29.0 (landing page) | Bahman Afsari | OK | OK | OK | ![]() | |||||||||||||||||||||||||||||
159/435 | GSE103322 1.15.0 (landing page) | Mariano Alvarez | OK | OK | OK | ![]() | |||||||||||||||||||||||||||||
160/435 | GSE13015 1.17.0 (landing page) | Darawan Rinchai | OK | OK | OK | ![]() | |||||||||||||||||||||||||||||
161/435 | GSE159526 1.15.0 (landing page) | Victor Yuan | OK | OK | OK | ![]() | |||||||||||||||||||||||||||||
162/435 | GSE62944 1.37.0 (landing page) | Bioconductor Package Maintainer | OK | OK | OK | ![]() | |||||||||||||||||||||||||||||
163/435 | GSVAdata 1.45.0 (landing page) | Robert Castelo | OK | OK | OK | ![]() | |||||||||||||||||||||||||||||
164/435 | GWASdata 1.47.0 (landing page) | Stephanie Gogarten | OK | OK | OK | ![]() | |||||||||||||||||||||||||||||
|
| ||||||||||||||||||||||||||||||||||
Package | Maintainer | INSTALL | BUILD | CHECK | |||||||||||||||||||||||||||||||
165/435 | h5vcData 2.29.0 (landing page) | Paul Theodor Pyl | OK | OK | OK | ![]() | |||||||||||||||||||||||||||||
166/435 | hapmap100khind 1.51.0 (landing page) | Benilton Carvalho | OK | OK | OK | ![]() | |||||||||||||||||||||||||||||
167/435 | hapmap100kxba 1.51.0 (landing page) | Benilton Carvalho | OK | OK | OK | ![]() | |||||||||||||||||||||||||||||
168/435 | hapmap500knsp 1.51.0 (landing page) | Benilton Carvalho | OK | OK | OK | ![]() | |||||||||||||||||||||||||||||
169/435 | hapmap500ksty 1.51.0 (landing page) | Benilton Carvalho | OK | OK | OK | ![]() | |||||||||||||||||||||||||||||
170/435 | hapmapsnp5 1.51.0 (landing page) | Benilton Carvalho | OK | OK | OK | ![]() | |||||||||||||||||||||||||||||
171/435 | hapmapsnp6 1.51.0 (landing page) | Benilton Carvalho | OK | OK | OK | ![]() | |||||||||||||||||||||||||||||
172/435 | harbChIP 1.47.0 (landing page) | VJ Carey | OK | OK | OK | ![]() | |||||||||||||||||||||||||||||
173/435 | HarmanData 1.37.0 (landing page) | Jason Ross | OK | OK | OK | ![]() | |||||||||||||||||||||||||||||
174/435 | HarmonizedTCGAData 1.31.0 (landing page) | Tianle Ma | OK | OK | OK | ![]() | |||||||||||||||||||||||||||||
175/435 | HCAData 1.25.0 (landing page) | Federico Marini | OK | OK | OK | ![]() | |||||||||||||||||||||||||||||
176/435 | HCATonsilData 1.7.0 (landing page) | Ramon Massoni-Badosa | OK | OK | OK | ![]() | |||||||||||||||||||||||||||||
177/435 | HD2013SGI 1.49.0 (landing page) | Mike Smith | OK | OK | OK | ![]() | |||||||||||||||||||||||||||||
178/435 | HDCytoData 1.29.0 (landing page) | Lukas M. Weber | OK | OK | OK | ![]() | |||||||||||||||||||||||||||||
179/435 | healthyControlsPresenceChecker 1.13.0 (landing page) | Davide Chicco | OK | OK | OK | ![]() | |||||||||||||||||||||||||||||
180/435 | healthyFlowData 1.47.0 (landing page) | Ariful Azad | OK | OK | OK | ![]() | |||||||||||||||||||||||||||||
181/435 | HEEBOdata 1.47.0 (landing page) | Agnes Paquet | OK | OK | WARNINGS | ![]() | |||||||||||||||||||||||||||||
182/435 | HelloRangesData 1.35.0 (landing page) | Michael Lawrence | OK | OK | OK | ![]() | |||||||||||||||||||||||||||||
183/435 | hgu133abarcodevecs 1.47.0 (landing page) | Matthew N. McCall | OK | OK | OK | ![]() | |||||||||||||||||||||||||||||
184/435 | hgu133plus2barcodevecs 1.47.0 (landing page) | Matthew N. McCall | OK | OK | OK | ![]() | |||||||||||||||||||||||||||||
185/435 | hgu133plus2CellScore 1.29.0 (landing page) | Nancy Mah | OK | OK | WARNINGS | ![]() | |||||||||||||||||||||||||||||
186/435 | hgu2beta7 1.49.0 (landing page) | Bioconductor Package Maintainer | OK | OK | WARNINGS | ![]() | |||||||||||||||||||||||||||||
187/435 | HiBED 1.7.0 (landing page) | Ze Zhang | OK | OK | OK | ![]() | |||||||||||||||||||||||||||||
188/435 | HiCDataHumanIMR90 1.29.0 (landing page) | Nicolas Servant | OK | OK | WARNINGS | ![]() | |||||||||||||||||||||||||||||
189/435 | HiCDataLymphoblast 1.45.0 (landing page) | Borbala Mifsud | OK | OK | OK | ![]() | |||||||||||||||||||||||||||||
190/435 | HiContactsData 1.11.0 (landing page) | Jacques Serizay | OK | OK | OK | ![]() | |||||||||||||||||||||||||||||
191/435 | HighlyReplicatedRNASeq 1.21.0 (landing page) | Constantin Ahlmann-Eltze | OK | OK | OK | ![]() | |||||||||||||||||||||||||||||
192/435 | Hiiragi2013 1.45.3 (landing page) | Wolfgang Huber | OK | OK | WARNINGS | ![]() | |||||||||||||||||||||||||||||
193/435 | HIVcDNAvantWout03 1.49.0 (landing page) | Chris Fraley | OK | OK | WARNINGS | ![]() | |||||||||||||||||||||||||||||
194/435 | HMP16SData 1.29.1 (landing page) | Lucas schiffer | OK | OK | OK | ![]() | |||||||||||||||||||||||||||||
195/435 | HMP2Data 1.23.0 (landing page) | John Stansfield | OK | OK | OK | ![]() | |||||||||||||||||||||||||||||
196/435 | homosapienDEE2CellScore 1.5.0 (landing page) | Justin Marsh | OK | ERROR | skipped | ||||||||||||||||||||||||||||||
197/435 | HSMMSingleCell 1.29.0 (landing page) | Cole Trapnell | OK | OK | WARNINGS | ![]() | |||||||||||||||||||||||||||||
198/435 | HumanAffyData 1.35.0 (landing page) | Brad Nelms | OK | OK | OK | ![]() | |||||||||||||||||||||||||||||
199/435 | humanHippocampus2024 1.1.0 (landing page) | Christine Hou | OK | OK | OK | ![]() | |||||||||||||||||||||||||||||
200/435 | humanStemCell 0.49.0 (landing page) | R. Gentleman | OK | OK | WARNINGS | ![]() | |||||||||||||||||||||||||||||
|
| ||||||||||||||||||||||||||||||||||
Package | Maintainer | INSTALL | BUILD | CHECK | |||||||||||||||||||||||||||||||
201/435 | IHWpaper 1.37.0 (landing page) | Nikos Ignatiadis | OK | OK | OK | ![]() | |||||||||||||||||||||||||||||
202/435 | Illumina450ProbeVariants.db 1.45.0 (landing page) | Tiffany Morris | OK | OK | OK | ![]() | |||||||||||||||||||||||||||||
203/435 | IlluminaDataTestFiles 1.47.0 (landing page) | Kasper Daniel Hansen | OK | OK | OK | ![]() | |||||||||||||||||||||||||||||
204/435 | imcdatasets 1.17.0 (landing page) | Nicolas Damond | OK | OK | OK | ![]() | |||||||||||||||||||||||||||||
205/435 | iModMixData 0.99.6 (landing page) | Isis Narvaez-Bandera | OK | OK | OK | ![]() | |||||||||||||||||||||||||||||
206/435 | ITALICSData 2.47.0 (landing page) | Guillem Rigaill | OK | OK | WARNINGS | ![]() | |||||||||||||||||||||||||||||
207/435 | Iyer517 1.51.0 (landing page) | Vince Carey | OK | OK | OK | ![]() | |||||||||||||||||||||||||||||
|
| ||||||||||||||||||||||||||||||||||
Package | Maintainer | INSTALL | BUILD | CHECK | |||||||||||||||||||||||||||||||
208/435 | JASPAR2014 1.45.0 (landing page) | Ge Tan | OK | OK | WARNINGS | ![]() | |||||||||||||||||||||||||||||
209/435 | JASPAR2016 1.37.0 (landing page) | Ge Tan | OK | OK | OK | ![]() | |||||||||||||||||||||||||||||
210/435 | JohnsonKinaseData 1.5.0 (landing page) | Florian Geier | OK | OK | OK | ![]() | |||||||||||||||||||||||||||||
|
| ||||||||||||||||||||||||||||||||||
Package | Maintainer | INSTALL | BUILD | CHECK | |||||||||||||||||||||||||||||||
211/435 | KEGGandMetacoreDzPathwaysGEO 1.29.0 (landing page) | Gaurav Bhatti | OK | OK | OK | ![]() | |||||||||||||||||||||||||||||
212/435 | KEGGdzPathwaysGEO 1.47.0 (landing page) | Gaurav Bhatti | OK | OK | OK | ![]() | |||||||||||||||||||||||||||||
213/435 | kidpack 1.51.0 (landing page) | Wolfgang Huber | OK | OK | WARNINGS | ![]() | |||||||||||||||||||||||||||||
214/435 | KOdata 1.35.0 (landing page) | Shana White | OK | OK | WARNINGS | ![]() | |||||||||||||||||||||||||||||
|
| ||||||||||||||||||||||||||||||||||
Package | Maintainer | INSTALL | BUILD | CHECK | |||||||||||||||||||||||||||||||
215/435 | leeBamViews 1.45.0 (landing page) | VJ Carey | OK | OK | OK | ![]() | |||||||||||||||||||||||||||||
216/435 | LegATo 1.3.0 (landing page) | Aubrey Odom | OK | OK | OK | ![]() | |||||||||||||||||||||||||||||
217/435 | leukemiasEset 1.45.0 (landing page) | Sara Aibar | OK | OK | OK | ![]() | |||||||||||||||||||||||||||||
218/435 | LiebermanAidenHiC2009 0.47.0 (landing page) | Felix Klein | OK | OK | WARNINGS | ![]() | |||||||||||||||||||||||||||||
219/435 | ListerEtAlBSseq 1.41.0 (landing page) | Mattia Furlan | OK | OK | WARNINGS | ![]() | |||||||||||||||||||||||||||||
220/435 | LRcellTypeMarkers 1.17.0 (landing page) | Wenjing Ma | OK | OK | OK | ![]() | |||||||||||||||||||||||||||||
221/435 | lumiBarnes 1.49.0 (landing page) | Pan Du | OK | OK | WARNINGS | ![]() | |||||||||||||||||||||||||||||
222/435 | LungCancerACvsSCCGEO 1.45.0 (landing page) | Adi Laurentiu Tarca | OK | OK | OK | ![]() | |||||||||||||||||||||||||||||
223/435 | LungCancerLines 0.47.0 (landing page) | Michael Lawrence | OK | OK | OK | ![]() | |||||||||||||||||||||||||||||
224/435 | lungExpression 0.47.0 (landing page) | Robert Scharpf | OK | OK | OK | ![]() | |||||||||||||||||||||||||||||
225/435 | lydata 1.35.0 (landing page) | Alex Pickering | OK | OK | OK | ![]() | |||||||||||||||||||||||||||||
|
| ||||||||||||||||||||||||||||||||||
Package | Maintainer | INSTALL | BUILD | CHECK | |||||||||||||||||||||||||||||||
226/435 | M3DExampleData 1.35.0 (landing page) | Tallulah Andrews | OK | OK | WARNINGS | ![]() | |||||||||||||||||||||||||||||
227/435 | macrophage 1.25.0 (landing page) | Michael Love | OK | OK | WARNINGS | ![]() | |||||||||||||||||||||||||||||
228/435 | MACSdata 1.17.0 (landing page) | Qiang Hu | OK | OK | OK | ![]() | |||||||||||||||||||||||||||||
229/435 | mammaPrintData 1.45.0 (landing page) | Luigi Marchionni | OK | OK | OK | ![]() | |||||||||||||||||||||||||||||
230/435 | maqcExpression4plex 1.53.0 (landing page) | Benilton Carvalho | OK | OK | OK | ![]() | |||||||||||||||||||||||||||||
231/435 | MAQCsubset 1.47.0 (landing page) | VJ Carey | OK | OK | WARNINGS | ![]() | |||||||||||||||||||||||||||||
232/435 | marinerData 1.9.0 (landing page) | Eric Davis | OK | OK | OK | ![]() | |||||||||||||||||||||||||||||
233/435 | mCSEAdata 1.29.0 (landing page) | Jordi Martorell Marugán | OK | OK | OK | ![]() | |||||||||||||||||||||||||||||
234/435 | mcsurvdata 1.27.0 (landing page) | Adria Caballe Mestres | OK | OK | OK | ![]() | |||||||||||||||||||||||||||||
235/435 | MEDIPSData 1.45.1 (landing page) | Lukas Chavez | OK | OK | WARNINGS | ![]() | |||||||||||||||||||||||||||||
236/435 | MEEBOdata 1.47.0 (landing page) | Agnes Paquet | OK | OK | WARNINGS | ![]() | |||||||||||||||||||||||||||||
237/435 | MerfishData 1.11.1 (landing page) | Ludwig Geistlinger | OK | OK | OK | ![]() | |||||||||||||||||||||||||||||
238/435 | MetaGxBreast 1.29.0 (landing page) | Benjamin Haibe-Kains | OK | OK | OK | ![]() | |||||||||||||||||||||||||||||
239/435 | MetaGxOvarian 1.29.0 (landing page) | Benjamin Haibe-Kains | OK | ERROR | skipped | ||||||||||||||||||||||||||||||
240/435 | MetaGxPancreas 1.29.0 (landing page) | Benjamin Haibe-Kains | OK | OK | OK | ![]() | |||||||||||||||||||||||||||||
241/435 | metaMSdata 1.45.0 (landing page) | Yann Guitton | OK | OK | OK | ![]() | |||||||||||||||||||||||||||||
242/435 | MetaScope 1.9.10 (landing page) | Sean Lu | OK | OK | OK | ![]() | |||||||||||||||||||||||||||||
243/435 | MethylAidData 1.41.0 (landing page) | M. van Iterson | OK | OK | OK | ![]() | |||||||||||||||||||||||||||||
244/435 | methylclockData 1.17.0 (landing page) | Dolors Pelegri-Siso | OK | OK | OK | ![]() | |||||||||||||||||||||||||||||
245/435 | MethylSeqData 1.19.0 (landing page) | Peter Hickey | OK | OK | OK | ![]() | |||||||||||||||||||||||||||||
246/435 | MicrobiomeBenchmarkData 1.11.0 (landing page) | Samuel Gamboa | OK | OK | OK | ![]() | |||||||||||||||||||||||||||||
247/435 | microbiomeDataSets 1.17.0 (landing page) | Leo Lahti | OK | OK | OK | ![]() | |||||||||||||||||||||||||||||
248/435 | microRNAome 1.31.0 (landing page) | Matthew N. McCall | OK | OK | WARNINGS | ![]() | |||||||||||||||||||||||||||||
249/435 | minfiData 0.55.0 (landing page) | Kasper Daniel Hansen | OK | OK | WARNINGS | ![]() | |||||||||||||||||||||||||||||
250/435 | minfiDataEPIC 1.35.0 (landing page) | Kasper Daniel Hansen | OK | OK | WARNINGS | ![]() | |||||||||||||||||||||||||||||
251/435 | minionSummaryData 1.39.0 (landing page) | Mike Smith | OK | OK | WARNINGS | ![]() | |||||||||||||||||||||||||||||
252/435 | miRcompData 1.39.0 (landing page) | Matthew N. McCall | OK | OK | OK | ![]() | |||||||||||||||||||||||||||||
253/435 | miRNATarget 1.47.0 (landing page) | Y-h. Taguchi | OK | OK | OK | ![]() | |||||||||||||||||||||||||||||
254/435 | MMDiffBamSubset 1.45.0 (landing page) | Gabriele Schweikert | OK | OK | OK | ![]() | |||||||||||||||||||||||||||||
255/435 | MOFAdata 1.25.0 (landing page) | Britta Velten | OK | OK | OK | ![]() | |||||||||||||||||||||||||||||
256/435 | mosaicsExample 1.47.0 (landing page) | Dongjun Chung | OK | OK | WARNINGS | ![]() | |||||||||||||||||||||||||||||
257/435 | mouse4302barcodevecs 1.47.0 (landing page) | Matthew N. McCall | OK | OK | OK | ![]() | |||||||||||||||||||||||||||||
258/435 | MouseAgingData 1.5.0 (landing page) | Tram Nguyen | OK | OK | OK | ![]() | |||||||||||||||||||||||||||||
259/435 | MouseGastrulationData 1.23.0 (landing page) | Jonathan Griffiths | OK | OK | OK | ![]() | |||||||||||||||||||||||||||||
260/435 | MouseThymusAgeing 1.17.0 (landing page) | Mike Morgan | OK | OK | OK | ![]() | |||||||||||||||||||||||||||||
261/435 | msd16s 1.29.0 (landing page) | Joseph N. Paulson | OK | OK | OK | ![]() | |||||||||||||||||||||||||||||
262/435 | msdata 0.49.0 (landing page) | Steffen Neumann | OK | OK | OK | ![]() | |||||||||||||||||||||||||||||
263/435 | msigdb 1.17.0 (landing page) | Dharmesh D. Bhuva | OK | OK | WARNINGS | ![]() | |||||||||||||||||||||||||||||
264/435 | MSMB 1.27.0 (landing page) | Wolfgang Huber | OK | OK | OK | ![]() | |||||||||||||||||||||||||||||
265/435 | msPurityData 1.37.0 (landing page) | Thomas N. Lawson | OK | OK | OK | ![]() | |||||||||||||||||||||||||||||
266/435 | msqc1 1.37.0 (landing page) | Christian Panse | OK | OK | OK | ![]() | |||||||||||||||||||||||||||||
267/435 | mtbls2 1.39.1 (landing page) | Steffen Neumann | OK | OK | WARNINGS | ![]() | |||||||||||||||||||||||||||||
268/435 | MUGAExampleData 1.29.0 (landing page) | Daniel Gatti | OK | OK | OK | ![]() | |||||||||||||||||||||||||||||
269/435 | muleaData 1.5.0 (landing page) | Eszter Ari | OK | OK | WARNINGS | ![]() | |||||||||||||||||||||||||||||
270/435 | multiWGCNAdata 1.7.0 (landing page) | Dario Tommasini | OK | OK | OK | ![]() | |||||||||||||||||||||||||||||
271/435 | muscData 1.23.0 (landing page) | Helena L. Crowell | OK | OK | WARNINGS | ![]() | |||||||||||||||||||||||||||||
272/435 | muSpaData 1.1.0 (landing page) | Peiying Cai | OK | OK | OK | ![]() | |||||||||||||||||||||||||||||
273/435 | mvoutData 1.45.0 (landing page) | VJ Carey | OK | OK | OK | ![]() | |||||||||||||||||||||||||||||
|
| ||||||||||||||||||||||||||||||||||
Package | Maintainer | INSTALL | BUILD | CHECK | |||||||||||||||||||||||||||||||
274/435 | NanoporeRNASeq 1.19.0 (landing page) | Ying Chen | OK | OK | OK | ![]() | |||||||||||||||||||||||||||||
275/435 | nanotubes 1.25.0 (landing page) | Malte Thodberg | OK | OK | OK | ![]() | |||||||||||||||||||||||||||||
276/435 | NCIgraphData 1.45.0 (landing page) | Laurent Jacob | OK | OK | WARNINGS | ![]() | |||||||||||||||||||||||||||||
277/435 | NestLink 1.25.0 (landing page) | Lennart Opitz | OK | OK | OK | ![]() | |||||||||||||||||||||||||||||
278/435 | NetActivityData 1.11.0 (landing page) | Carlos Ruiz-Arenas | OK | OK | OK | ![]() | |||||||||||||||||||||||||||||
279/435 | Neve2006 0.47.0 (landing page) | VJ Carey | OK | OK | OK | ![]() | |||||||||||||||||||||||||||||
280/435 | NGScopyData 1.29.0 (landing page) | Xiaobei Zhao | OK | OK | WARNINGS | ![]() | |||||||||||||||||||||||||||||
281/435 | nmrdata 0.99.2 (landing page) | Torben Kimhofer | OK | OK | OK | ![]() | |||||||||||||||||||||||||||||
282/435 | nullrangesData 1.15.0 (landing page) | Michael Love | OK | OK | OK | ![]() | |||||||||||||||||||||||||||||
283/435 | NxtIRFdata 1.15.0 (landing page) | Alex Chit Hei Wong | OK | OK | OK | ![]() | |||||||||||||||||||||||||||||
|
| ||||||||||||||||||||||||||||||||||
Package | Maintainer | INSTALL | BUILD | CHECK | |||||||||||||||||||||||||||||||
284/435 | ObMiTi 1.17.0 (landing page) | Omar Elashkar | OK | OK | OK | ![]() | |||||||||||||||||||||||||||||
285/435 | oct4 1.25.0 (landing page) | Michael Love | OK | OK | OK | ![]() | |||||||||||||||||||||||||||||
286/435 | octad.db 1.11.0 (landing page) | E. Chekalin | OK | OK | OK | ![]() | |||||||||||||||||||||||||||||
287/435 | OMICsPCAdata 1.27.0 (landing page) | Subhadeep Das | OK | OK | WARNINGS | ![]() | |||||||||||||||||||||||||||||
288/435 | OnassisJavaLibs 1.31.0 (landing page) | Eugenia Galeota | OK | OK | OK | ![]() | |||||||||||||||||||||||||||||
289/435 | optimalFlowData 1.21.0 (landing page) | Hristo Inouzhe | OK | OK | WARNINGS | ![]() | |||||||||||||||||||||||||||||
290/435 | orthosData 1.7.0 (landing page) | Panagiotis Papasaikas | OK | OK | OK | ![]() | |||||||||||||||||||||||||||||
|
| ||||||||||||||||||||||||||||||||||
Package | Maintainer | INSTALL | BUILD | CHECK | |||||||||||||||||||||||||||||||
291/435 | pasilla 1.37.0 (landing page) | Alejandro Reyes | OK | OK | OK | ![]() | |||||||||||||||||||||||||||||
292/435 | pasillaBamSubset 0.47.0 (landing page) | Hervé Pagès | OK | OK | OK | ![]() | |||||||||||||||||||||||||||||
293/435 | PasillaTranscriptExpr 1.37.0 (landing page) | Malgorzata Nowicka | OK | OK | OK | ![]() | |||||||||||||||||||||||||||||
294/435 | PathNetData 1.45.0 (landing page) | Ludwig Geistlinger | OK | OK | OK | ![]() | |||||||||||||||||||||||||||||
295/435 | PCHiCdata 1.37.0 (landing page) | Mikhail Spivakov | OK | OK | WARNINGS | ![]() | |||||||||||||||||||||||||||||
296/435 | pd.atdschip.tiling 0.47.0 (landing page) | Kristof De Beuf | OK | OK | WARNINGS | ![]() | |||||||||||||||||||||||||||||
297/435 | pepDat 1.29.0 (landing page) | Renan Sauteraud | OK | OK | OK | ![]() | |||||||||||||||||||||||||||||
298/435 | PepsNMRData 1.27.0 (landing page) | Manon Martin | OK | OK | WARNINGS | ![]() | |||||||||||||||||||||||||||||
299/435 | PhyloProfileData 1.23.3 (landing page) | Vinh Tran | OK | OK | OK | ![]() | |||||||||||||||||||||||||||||
300/435 | plotgardenerData 1.15.0 (landing page) | Nicole Kramer | OK | OK | WARNINGS | ![]() | |||||||||||||||||||||||||||||
301/435 | prebsdata 1.45.0 (landing page) | Karolis Uziela | OK | OK | OK | ![]() | |||||||||||||||||||||||||||||
302/435 | preciseTADhub 1.17.0 (landing page) | Mikhail Dozmorov | OK | OK | OK | ![]() | |||||||||||||||||||||||||||||
303/435 | PREDAsampledata 0.49.0 (landing page) | Francesco Ferrari | OK | OK | OK | ![]() | |||||||||||||||||||||||||||||
304/435 | ProData 1.47.0 (landing page) | Xiaochun Li | OK | OK | OK | ![]() | |||||||||||||||||||||||||||||
305/435 | pRolocdata 1.47.0 (landing page) | Lisa Breckels | OK | OK | OK | ![]() | |||||||||||||||||||||||||||||
306/435 | prostateCancerCamcap 1.37.0 (landing page) | Mark Dunning | OK | OK | WARNINGS | ![]() | |||||||||||||||||||||||||||||
307/435 | prostateCancerGrasso 1.37.0 (landing page) | Mark Dunning | OK | OK | WARNINGS | ![]() | |||||||||||||||||||||||||||||
308/435 | prostateCancerStockholm 1.37.0 (landing page) | Mark Dunning | OK | OK | WARNINGS | ![]() | |||||||||||||||||||||||||||||
309/435 | prostateCancerTaylor 1.37.0 (landing page) | Mark Dunning | OK | OK | WARNINGS | ![]() | |||||||||||||||||||||||||||||
310/435 | prostateCancerVarambally 1.37.0 (landing page) | Mark Dunning | OK | OK | WARNINGS | ![]() | |||||||||||||||||||||||||||||
311/435 | ProteinGymR 1.3.12 (landing page) | Tram Nguyen | OK | OK | OK | ![]() | |||||||||||||||||||||||||||||
312/435 | ptairData 1.17.0 (landing page) | camille Roquencourt | OK | OK | OK | ![]() | |||||||||||||||||||||||||||||
313/435 | PtH2O2lipids 1.35.0 (landing page) | James Collins | OK | OK | WARNINGS | ![]() | |||||||||||||||||||||||||||||
314/435 | pumadata 2.45.0 (landing page) | Xuejun liu | OK | OK | OK | ![]() | |||||||||||||||||||||||||||||
315/435 | PWMEnrich.Dmelanogaster.background 4.43.0 (landing page) | Diego Diez | OK | OK | OK | ![]() | |||||||||||||||||||||||||||||
316/435 | PWMEnrich.Hsapiens.background 4.43.0 (landing page) | Diego Diez | OK | OK | OK | ![]() | |||||||||||||||||||||||||||||
317/435 | PWMEnrich.Mmusculus.background 4.43.0 (landing page) | Diego Diez | OK | OK | OK | ![]() | |||||||||||||||||||||||||||||
|
| ||||||||||||||||||||||||||||||||||
Package | Maintainer | INSTALL | BUILD | CHECK | |||||||||||||||||||||||||||||||
318/435 | QDNAseq.hg19 1.39.0 (landing page) | Daoud Sie | OK | OK | OK | ![]() | |||||||||||||||||||||||||||||
319/435 | QDNAseq.mm10 1.39.0 (landing page) | Daoud Sie | OK | OK | OK | ![]() | |||||||||||||||||||||||||||||
320/435 | qPLEXdata 1.27.0 (landing page) | Kamal Kishore Developer | OK | ERROR | skipped | ||||||||||||||||||||||||||||||
321/435 | QUBICdata 1.37.0 (landing page) | Yu Zhang | OK | OK | OK | ![]() | |||||||||||||||||||||||||||||
|
| ||||||||||||||||||||||||||||||||||
Package | Maintainer | INSTALL | BUILD | CHECK | |||||||||||||||||||||||||||||||
322/435 | raerdata 1.7.0 (landing page) | Kent Riemondy | OK | OK | OK | ![]() | |||||||||||||||||||||||||||||
323/435 | rcellminerData 2.31.0 (landing page) | Augustin Luna | OK | OK | WARNINGS | ![]() | |||||||||||||||||||||||||||||
324/435 | RcisTarget.hg19.motifDBs.cisbpOnly.500bp 1.29.0 (landing page) | Sara Aibar | OK | OK | WARNINGS | ![]() | |||||||||||||||||||||||||||||
325/435 | ReactomeGSA.data 1.23.0 (landing page) | Johannes Griss | OK | OK | WARNINGS | ![]() | |||||||||||||||||||||||||||||
326/435 | RegParallel 1.27.0 (landing page) | Kevin Blighe | OK | OK | OK | ![]() | |||||||||||||||||||||||||||||
327/435 | RforProteomics 1.47.2 (landing page) | Laurent Gatto | OK | OK | WARNINGS | ![]() | |||||||||||||||||||||||||||||
328/435 | Simone Pallotta | OK | OK | OK | ![]() | ||||||||||||||||||||||||||||||
329/435 | rheumaticConditionWOLLBOLD 1.47.0 (landing page) | Alejandro Quiroz-Zarate | OK | OK | OK | ![]() | |||||||||||||||||||||||||||||
330/435 | RITANdata 1.33.0 (landing page) | Michael Zimmermann | OK | OK | OK | ![]() | |||||||||||||||||||||||||||||
331/435 | RMassBankData 1.47.0 (landing page) | Michael Stravs, Emma Schymanski | OK | OK | OK | ![]() | |||||||||||||||||||||||||||||
332/435 | RNAmodR.Data 1.23.0 (landing page) | Felix G.M. Ernst | OK | OK | OK | ![]() | |||||||||||||||||||||||||||||
333/435 | RNAseqData.HNRNPC.bam.chr14 0.47.0 (landing page) | Hervé Pagès | OK | OK | OK | ![]() | |||||||||||||||||||||||||||||
334/435 | RnaSeqSampleSizeData 1.41.0 (landing page) | Shilin Zhao | OK | OK | OK | ![]() | |||||||||||||||||||||||||||||
335/435 | RnBeads.hg19 1.41.0 (landing page) | RnBeadsAnnotationCreator | OK | OK | OK | ![]() | |||||||||||||||||||||||||||||
336/435 | RnBeads.hg38 1.41.1 (landing page) | RnBeads Team | OK | OK | WARNINGS | ![]() | |||||||||||||||||||||||||||||
337/435 | RnBeads.mm10 2.17.0 (landing page) | RnBeads Team | OK | OK | OK | ![]() | |||||||||||||||||||||||||||||
338/435 | RnBeads.mm9 1.41.0 (landing page) | RnBeadsAnnotationCreator | OK | OK | OK | ![]() | |||||||||||||||||||||||||||||
339/435 | RnBeads.rn5 1.41.0 (landing page) | RnBeadsAnnotationCreator | OK | OK | OK | ![]() | |||||||||||||||||||||||||||||
340/435 | RRBSdata 1.29.0 (landing page) | Katja Hebestreit | OK | OK | OK | ![]() | |||||||||||||||||||||||||||||
341/435 | Michael Hahsler | OK | OK | OK | ![]() | ||||||||||||||||||||||||||||||
342/435 | RTCGA.clinical 20151101.39.0 (landing page) | Marcin Kosinski | OK | OK | WARNINGS | ![]() | |||||||||||||||||||||||||||||
343/435 | RTCGA.CNV 1.37.0 (landing page) | Marcin Kosinski | OK | OK | WARNINGS | ![]() | |||||||||||||||||||||||||||||
344/435 | RTCGA.methylation 1.37.0 (landing page) | Marcin Kosinski | OK | OK | WARNINGS | ![]() | |||||||||||||||||||||||||||||
345/435 | RTCGA.miRNASeq 1.37.0 (landing page) | Marcin Kosinski | OK | OK | WARNINGS | ![]() | |||||||||||||||||||||||||||||
346/435 | RTCGA.mRNA 1.37.0 (landing page) | Marcin Kosinski | OK | OK | WARNINGS | ![]() | |||||||||||||||||||||||||||||
347/435 | RTCGA.mutations 20151101.39.0 (landing page) | Marcin Kosinski | OK | OK | WARNINGS | ![]() | |||||||||||||||||||||||||||||
348/435 | RTCGA.PANCAN12 1.37.0 (landing page) | Marcin Kosinski | OK | OK | OK | ![]() | |||||||||||||||||||||||||||||
349/435 | RTCGA.rnaseq 20151101.39.0 (landing page) | Marcin Kosinski | OK | OK | WARNINGS | ![]() | |||||||||||||||||||||||||||||
350/435 | RTCGA.RPPA 1.37.0 (landing page) | Marcin Kosinski | OK | OK | WARNINGS | ![]() | |||||||||||||||||||||||||||||
351/435 | RUVnormalizeData 1.29.0 (landing page) | Laurent Jacob | OK | OK | OK | ![]() | |||||||||||||||||||||||||||||
|
| ||||||||||||||||||||||||||||||||||
Package | Maintainer | INSTALL | BUILD | CHECK | |||||||||||||||||||||||||||||||
352/435 | sampleClassifierData 1.33.0 (landing page) | Khadija El Amrani | OK | OK | OK | ![]() | |||||||||||||||||||||||||||||
353/435 | SBGNview.data 1.23.0 (landing page) | Weijun Luo | OK | OK | OK | ![]() | |||||||||||||||||||||||||||||
354/435 | scaeData 1.5.0 (landing page) | Ahmad Al Ajami | OK | OK | OK | ![]() | |||||||||||||||||||||||||||||
355/435 | scanMiRData 1.15.0 (landing page) | Pierre-Luc Germain | OK | OK | OK | ![]() | |||||||||||||||||||||||||||||
356/435 | scATAC.Explorer 1.15.1 (landing page) | Jonathan Wang | OK | OK | OK | ![]() | |||||||||||||||||||||||||||||
357/435 | SCLCBam 1.41.0 (landing page) | Oscar Krijgsman | OK | OK | OK | ![]() | |||||||||||||||||||||||||||||
358/435 | scMultiome 1.9.0 (landing page) | Xiaosai Yao | OK | OK | OK | ![]() | |||||||||||||||||||||||||||||
359/435 | scpdata 1.17.1 (landing page) | Christophe Vanderaa | OK | OK | OK | ![]() | |||||||||||||||||||||||||||||
360/435 | scRNAseq 2.23.1 (landing page) | Aaron Lun | OK | OK | OK | ![]() | |||||||||||||||||||||||||||||
361/435 | scTHI.data 1.21.0 (landing page) | Michele Ceccarelli | OK | OK | OK | ![]() | |||||||||||||||||||||||||||||
362/435 | seq2pathway.data 1.41.0 (landing page) | Arjun Kinstlick | OK | OK | WARNINGS | ![]() | |||||||||||||||||||||||||||||
363/435 | seqc 1.43.0 (landing page) | Yang Liao | OK | OK | WARNINGS | ![]() | |||||||||||||||||||||||||||||
364/435 | serumStimulation 1.45.0 (landing page) | Morten Hansen, | OK | OK | OK | ![]() | |||||||||||||||||||||||||||||
365/435 | sesameData 1.27.1 (landing page) | Wanding Zhou | OK | OK | OK | ![]() | |||||||||||||||||||||||||||||
366/435 | seventyGeneData 1.45.0 (landing page) | Luigi Marchionni | OK | OK | OK | ![]() | |||||||||||||||||||||||||||||
367/435 | SFEData 1.11.0 (landing page) | Lambda Moses | OK | OK | OK | ![]() | |||||||||||||||||||||||||||||
368/435 | shinyMethylData 1.29.0 (landing page) | Jean-Philippe Fortin | OK | OK | WARNINGS | ![]() | |||||||||||||||||||||||||||||
369/435 | signatureSearchData 1.23.0 (landing page) | Brendan Gongol | OK | OK | OK | ![]() | |||||||||||||||||||||||||||||
370/435 | SimBenchData 1.17.0 (landing page) | Yue Cao | OK | OK | OK | ![]() | |||||||||||||||||||||||||||||
371/435 | simpIntLists 1.45.0 (landing page) | Kircicegi Korkmaz | OK | OK | WARNINGS | ![]() | |||||||||||||||||||||||||||||
372/435 | Single.mTEC.Transcriptomes 1.37.1 (landing page) | Alejandro Reyes | OK | OK | OK | ![]() | |||||||||||||||||||||||||||||
373/435 | SingleCellMultiModal 1.21.3 (landing page) | Marcel Ramos | OK | OK | OK | ![]() | |||||||||||||||||||||||||||||
374/435 | SingleMoleculeFootprintingData 1.17.0 (landing page) | Guido Barzaghi | OK | OK | OK | ![]() | |||||||||||||||||||||||||||||
375/435 | smokingMouse 1.7.0 (landing page) | Daianna Gonzalez-Padilla | OK | OK | OK | ![]() | |||||||||||||||||||||||||||||
376/435 | SNAData 1.55.0 (landing page) | Denise Scholtens | OK | OK | OK | ![]() | |||||||||||||||||||||||||||||
377/435 | SNAGEEdata 1.45.0 (landing page) | David Venet | OK | OK | OK | ![]() | |||||||||||||||||||||||||||||
378/435 | SNPhoodData 1.39.0 (landing page) | Christian Arnold | OK | OK | OK | ![]() | |||||||||||||||||||||||||||||
379/435 | SomatiCAData 1.47.0 (landing page) | Mengjie Chen | OK | OK | WARNINGS | ![]() | |||||||||||||||||||||||||||||
380/435 | SomaticCancerAlterations 1.45.0 (landing page) | Julian Gehring | OK | OK | OK | ![]() | |||||||||||||||||||||||||||||
381/435 | SpatialDatasets 1.7.3 (landing page) | Ellis Patrick | OK | OK | WARNINGS | ![]() | |||||||||||||||||||||||||||||
382/435 | spatialDmelxsim 1.15.0 (landing page) | Michael Love | OK | OK | OK | ![]() | |||||||||||||||||||||||||||||
383/435 | spatialLIBD 1.21.6 (landing page) | Leonardo Collado-Torres | OK | OK | ERROR | ||||||||||||||||||||||||||||||
384/435 | SpikeIn 1.51.0 (landing page) | Robert D Shear | OK | OK | OK | ![]() | |||||||||||||||||||||||||||||
385/435 | SpikeInSubset 1.49.0 (landing page) | Robert D Shear | OK | OK | WARNINGS | ![]() | |||||||||||||||||||||||||||||
386/435 | spqnData 1.21.0 (landing page) | Yi Wang | OK | OK | OK | ![]() | |||||||||||||||||||||||||||||
387/435 | stemHypoxia 1.45.0 (landing page) | Cristobal Fresno | OK | OK | OK | ![]() | |||||||||||||||||||||||||||||
388/435 | STexampleData 1.17.1 (landing page) | Lukas M. Weber | OK | OK | OK | ![]() | |||||||||||||||||||||||||||||
389/435 | SubcellularSpatialData 1.5.0 (landing page) | Dharmesh D. Bhuva | OK | OK | OK | ![]() | |||||||||||||||||||||||||||||
390/435 | SVM2CRMdata 1.41.0 (landing page) | Guidantonio Malagoli Tagliazucchi | OK | OK | WARNINGS | ![]() | |||||||||||||||||||||||||||||
391/435 | systemPipeRdata 2.13.2 (landing page) | Thomas Girke | OK | OK | OK | ![]() | |||||||||||||||||||||||||||||
|
| ||||||||||||||||||||||||||||||||||
Package | Maintainer | INSTALL | BUILD | CHECK | |||||||||||||||||||||||||||||||
392/435 | TabulaMurisData 1.27.0 (landing page) | Charlotte Soneson | OK | OK | OK | ![]() | |||||||||||||||||||||||||||||
393/435 | TabulaMurisSenisData 1.15.1 (landing page) | Charlotte Soneson | OK | OK | OK | ![]() | |||||||||||||||||||||||||||||
394/435 | TargetScoreData 1.45.0 (landing page) | Yue Li | OK | OK | OK | ![]() | |||||||||||||||||||||||||||||
395/435 | TargetSearchData 1.47.0 (landing page) | Alvaro Cuadros-Inostroza | OK | OK | OK | ![]() | |||||||||||||||||||||||||||||
396/435 | tartare 1.23.0 (landing page) | Christian Panse | OK | OK | OK | ![]() | |||||||||||||||||||||||||||||
397/435 | TBX20BamSubset 1.45.0 (landing page) | D. Bindreither | OK | OK | OK | ![]() | |||||||||||||||||||||||||||||
398/435 | TCGAbiolinksGUI.data 1.29.0 (landing page) | Tiago Chedraoui Silva | OK | OK | WARNINGS | ![]() | |||||||||||||||||||||||||||||
399/435 | TCGAcrcmiRNA 1.29.0 (landing page) | Claudio Isella | OK | OK | OK | ![]() | |||||||||||||||||||||||||||||
400/435 | TCGAcrcmRNA 1.29.0 (landing page) | Claudio Isella | OK | OK | OK | ![]() | |||||||||||||||||||||||||||||
401/435 | TCGAMethylation450k 1.45.0 (landing page) | Sean Davis | OK | OK | OK | ![]() | |||||||||||||||||||||||||||||
402/435 | TCGAWorkflowData 1.33.0 (landing page) | Tiago Chedraoui Silva | OK | OK | OK | ![]() | |||||||||||||||||||||||||||||
403/435 | TENET.ExperimentHub 1.1.0 (landing page) | Rhie Lab at the University of Southern California | OK | OK | OK | ![]() | |||||||||||||||||||||||||||||
404/435 | TENxBrainData 1.29.0 (landing page) | Bioconductor Package Maintainer | OK | OK | OK | ![]() | |||||||||||||||||||||||||||||
405/435 | TENxBUSData 1.23.0 (landing page) | Lambda Moses | OK | OK | OK | ![]() | |||||||||||||||||||||||||||||
406/435 | TENxPBMCData 1.27.0 (landing page) | Stephanie Hicks | OK | OK | OK | ![]() | |||||||||||||||||||||||||||||
407/435 | TENxVisiumData 1.17.0 (landing page) | Helena L. Crowell | OK | OK | OK | ![]() | |||||||||||||||||||||||||||||
408/435 | TENxXeniumData 1.5.0 (landing page) | Matineh Rahmatbakhsh | OK | OK | OK | ![]() | |||||||||||||||||||||||||||||
409/435 | timecoursedata 1.19.0 (landing page) | Nelle Varoquaux | OK | OK | OK | ![]() | |||||||||||||||||||||||||||||
410/435 | TimerQuant 1.39.0 (landing page) | Joseph Barry | OK | ERROR | skipped | ||||||||||||||||||||||||||||||
411/435 | tinesath1cdf 1.47.0 (landing page) | Tine Casneuf | OK | OK | WARNINGS | ![]() | |||||||||||||||||||||||||||||
412/435 | tinesath1probe 1.47.0 (landing page) | Tine Casneuf | OK | OK | WARNINGS | ![]() | |||||||||||||||||||||||||||||
413/435 | tissueTreg 1.29.0 (landing page) | Charles Imbusch | OK | OK | OK | ![]() | |||||||||||||||||||||||||||||
414/435 | TMExplorer 1.19.0 (landing page) | Erik Christensen | OK | OK | OK | ![]() | |||||||||||||||||||||||||||||
415/435 | tofsimsData 1.37.0 (landing page) | Lorenz Gerber | OK | OK | WARNINGS | ![]() | |||||||||||||||||||||||||||||
416/435 | topdownrdata 1.31.0 (landing page) | Sebastian Gibb | OK | OK | OK | ![]() | |||||||||||||||||||||||||||||
417/435 | TransOmicsData 1.5.0 (landing page) | Di Xiao | OK | OK | OK | ![]() | |||||||||||||||||||||||||||||
418/435 | tuberculosis 1.15.1 (landing page) | Lucas Schiffer | OK | OK | OK | ![]() | |||||||||||||||||||||||||||||
419/435 | TumourMethData 1.7.0 (landing page) | Richard Heery | OK | OK | WARNINGS | ![]() | |||||||||||||||||||||||||||||
420/435 | tweeDEseqCountData 1.47.0 (landing page) | Dolors Pelegri-Siso | OK | OK | WARNINGS | ![]() | |||||||||||||||||||||||||||||
421/435 | tximportData 1.37.5 (landing page) | Michael Love | OK | OK | OK | ![]() | |||||||||||||||||||||||||||||
|
| ||||||||||||||||||||||||||||||||||
Package | Maintainer | INSTALL | BUILD | CHECK | |||||||||||||||||||||||||||||||
422/435 | VariantToolsData 1.33.0 (landing page) | Michael Lawrence | OK | OK | OK | ![]() | |||||||||||||||||||||||||||||
423/435 | VectraPolarisData 1.13.0 (landing page) | Wrobel Julia | OK | OK | OK | ![]() | |||||||||||||||||||||||||||||
424/435 | vulcandata 1.31.0 (landing page) | Federico M. Giorgi | OK | OK | OK | ![]() | |||||||||||||||||||||||||||||
|
| ||||||||||||||||||||||||||||||||||
Package | Maintainer | INSTALL | BUILD | CHECK | |||||||||||||||||||||||||||||||
425/435 | WeberDivechaLCdata 1.11.0 (landing page) | Lukas M. Weber | OK | OK | OK | ![]() | |||||||||||||||||||||||||||||
426/435 | WES.1KG.WUGSC 1.41.0 (landing page) | Yuchao Jiang | OK | OK | OK | ![]() | |||||||||||||||||||||||||||||
427/435 | WGSmapp 1.21.0 (landing page) | Rujin Wang | OK | OK | WARNINGS | ![]() | |||||||||||||||||||||||||||||
|
| ||||||||||||||||||||||||||||||||||
Package | Maintainer | INSTALL | BUILD | CHECK | |||||||||||||||||||||||||||||||
428/435 | xcoredata 1.13.0 (landing page) | Maciej Migdał | OK | OK | OK | ![]() | |||||||||||||||||||||||||||||
429/435 | XhybCasneuf 1.47.0 (landing page) | Tineke Casneuf | OK | OK | WARNINGS | ![]() | |||||||||||||||||||||||||||||
|
| ||||||||||||||||||||||||||||||||||
Package | Maintainer | INSTALL | BUILD | CHECK | |||||||||||||||||||||||||||||||
430/435 | yeastCC 1.49.0 (landing page) | Sandrine Dudoit | OK | OK | WARNINGS | ![]() | |||||||||||||||||||||||||||||
431/435 | yeastExpData 0.55.0 (landing page) | R. Gentleman | OK | OK | WARNINGS | ![]() | |||||||||||||||||||||||||||||
432/435 | yeastGSData 0.47.0 (landing page) | R. Gentleman | OK | OK | WARNINGS | ![]() | |||||||||||||||||||||||||||||
433/435 | yeastNagalakshmi 1.45.0 (landing page) | Bioconductor Package Maintainer | OK | OK | OK | ![]() | |||||||||||||||||||||||||||||
434/435 | yeastRNASeq 0.47.0 (landing page) | J. Bullard | OK | OK | WARNINGS | ![]() | |||||||||||||||||||||||||||||
|
| ||||||||||||||||||||||||||||||||||
Package | Maintainer | INSTALL | BUILD | CHECK | |||||||||||||||||||||||||||||||
435/435 | zebrafishRNASeq 1.29.0 (landing page) | Davide Risso | OK | OK | OK | ![]() |