| GLYPH TABLE - These are the glyphs used in this report to indicate the following package status: | 
|  -  TIMEOUT  | 
BUILD, CHECK or BUILD BIN of package took more than 40 minutes | 
|  -  ERROR  | 
BUILD, CHECK or BUILD BIN of package returned an error | 
|  -  WARNINGS  | 
CHECK of package produced warnings | 
|  -  OK  | 
BUILD, CHECK or BUILD BIN of package was OK | 
|  - skipped | 
CHECK or BUILD BIN of package was skipped because the BUILD step failed (or because something bad happened with the Build System itself) | 
| Click on any glyph in the report below to see the status details (command output). | 
| [lamb1] | 
Linux (SUSE 10.1)  | x86_64 |  |  |  | 
| lemming | 
Windows Server 2003 (32-bit)  | x64 |  |  |  | 
 | 
| affydata 1.11.3 | Laurent |  OK  |  OK  |  | 
| ALL 1.4.3 | Xiaochun Li |  OK  |  OK  |  | 
| ALLMLL 1.2.2 | B. M. Bolstad |  OK  |  OK  |  | 
| AmpAffyExample 1.2.2 | Rafael A. Irizarry |  OK  |  OK  |  | 
| beta7 0.6.0 | Jean Yang |  OK  |  WARNINGS  |  | 
| bronchialIL13 1.0-1 | Vince Carey |  OK  |  OK  |  | 
| CCl4 1.0.5 | Audrey Kauffmann |  ERROR  | skipped |  | 
| CLL 1.2.3 | Elizabeth Whalen |  OK  |  OK  |  | 
| colonCA 1.4.1 | W Sylvia Merk |  OK  |  OK  |  | 
| davidTiling 1.2.4 | Wolfgang Huber |  OK  |  OK  |  | 
| ecoliLeucine 1.2.1 | Laurent Gautier |  OK  |  OK  |  | 
| estrogen 1.8.2 | R. Gentleman |  OK  |  OK  |  | 
| faahKO 1.2.0 | Colin A. Smith |  OK  |  OK  |  | 
| facsDorit 1.4.0 | Florian Hahne |  OK  |  OK  |  | 
| fibroEset 1.4.2 | Sylvia Merk |  OK  |  OK  |  | 
| gaschYHS 1.0.0 | Vince Carey |  OK  |  OK  |  | 
| GGdata 0.0-7 | stvjc |  OK  |  WARNINGS  |  | 
| golubEsets 1.4.3 | Vince Carey |  OK  |  OK  |  | 
| hapmap100khind 1.1 | Benilton Carvalho |  OK  |  OK  |  | 
| hapmap100kxba 1.1 | Benilton Carvalho |  OK  |  OK  |  | 
| hapmap500knsp 1.1 | Benilton Carvalho |  OK  |  OK  |  | 
| hapmap500ksty 1.1 | Benilton Carvalho |  OK  |  OK  |  | 
| harbChIP 0.0.1 | VJ Carey |  OK  |  OK  |  | 
| HEEBOdata 1.0.0 | Agnes Paquet |  OK  |  OK  |  | 
| hgu2beta7 1.2.0 | Ting-Yuan Liu |  OK  |  ERROR  |  | 
| HIVcDNAvantWout03 1.2.0 | Chris Fraley |  OK  |  OK  |  | 
| Iyer517 1.4.2 | Vince Carey |  OK  |  OK  |  | 
| kidpack 1.4.3 | Wolfgang Huber |  OK  |  OK  |  | 
| lumiBarnes 1.3.2 | Pan Du |  OK  |  OK  |  | 
| lungExpression 0.0.6 | Robert Scharpf |  OK  |  OK  |  | 
| lymphoma 1.6.5 | W. Huber |  OK  |  WARNINGS  |  | 
| maqcExpression4plex 1.2 | Benilton Carvalho |  OK  |  OK  |  | 
| MAQCsubset 1.0.2 | VJ Carey |  OK  |  WARNINGS  |  | 
| MEEBOdata 1.0.0 | Agnes Paquet |  OK  |  OK  |  | 
| Neve2006 0.1.3 | VJ Carey |  OK  |  ERROR  |  | 
| ppiData 0.1.7 | Tony Chiang |  OK  |  WARNINGS  |  | 
| ProData 0.4.1 | Xiaochun Li |  OK  |  OK  |  | 
| pumadata 1.0.0 | Richard Pearson |  OK  |  OK  |  | 
| rfcdmin 1.6.3 | N. Le Meur |  OK  |  WARNINGS  |  | 
| SNAData 1.8.0 | Denise Scholtens |  OK  |  OK  |  | 
| SpikeIn 1.4.1 | Rafael A. Irizarry |  OK  |  OK  |  | 
| SpikeInSubset 1.2.5 | Rafael A. Irizarry |  OK  |  OK  |  | 
| stjudem 1.2.0 | Joern Toedling |  OK  |  OK  |  | 
| tinesath1cdf 1.0.2 | Tine Casneuf |  OK  |  OK  |  | 
| tinesath1probe 1.0.2 | Tine Casneuf |  OK  |  OK  |  | 
| XhybCasneuf 1.0.0 | Tineke Casneuf |  OK  |  OK  |  | 
| yeastCC 1.2.6 | Sandrine Dudoit |  OK  |  OK  |  | 
| yeastExpData 0.8.4 | R. Gentleman |  OK  |  WARNINGS  |  |